BEGIN:VCALENDAR
VERSION:2.0
PRODID:-//eventon.com NONSGML v1.0//EN
BEGIN:VEVENT
UID:69e9dc515dfcf
DTSTAMP:20260423T084609
DTSTART:20201111T000000Z
DTEND:20201111T235900Z
LOCATION:
SUMMARY:Remembrance Day
DESCRIPTION: Remembrance Day
END:VEVENT
END:VCALENDAR